BEGIN:VCALENDAR
VERSION:2.0
PRODID:-//The East Riding Union of Golf Clubs - ECPv6.15.13.1//NONSGML v1.0//EN
CALSCALE:GREGORIAN
METHOD:PUBLISH
X-WR-CALNAME:The East Riding Union of Golf Clubs
X-ORIGINAL-URL:https://erugc.co.uk
X-WR-CALDESC:Events for The East Riding Union of Golf Clubs
REFRESH-INTERVAL;VALUE=DURATION:PT1H
X-Robots-Tag:noindex
X-PUBLISHED-TTL:PT1H
BEGIN:VTIMEZONE
TZID:Europe/London
BEGIN:DAYLIGHT
TZOFFSETFROM:+0000
TZOFFSETTO:+0100
TZNAME:BST
DTSTART:20240331T010000
END:DAYLIGHT
BEGIN:STANDARD
TZOFFSETFROM:+0100
TZOFFSETTO:+0000
TZNAME:GMT
DTSTART:20241027T010000
END:STANDARD
BEGIN:DAYLIGHT
TZOFFSETFROM:+0000
TZOFFSETTO:+0100
TZNAME:BST
DTSTART:20250330T010000
END:DAYLIGHT
BEGIN:STANDARD
TZOFFSETFROM:+0100
TZOFFSETTO:+0000
TZNAME:GMT
DTSTART:20251026T010000
END:STANDARD
BEGIN:DAYLIGHT
TZOFFSETFROM:+0000
TZOFFSETTO:+0100
TZNAME:BST
DTSTART:20260329T010000
END:DAYLIGHT
BEGIN:STANDARD
TZOFFSETFROM:+0100
TZOFFSETTO:+0000
TZNAME:GMT
DTSTART:20261025T010000
END:STANDARD
END:VTIMEZONE
BEGIN:VEVENT
DTSTART;TZID=Europe/London:20250328T190000
DTEND;TZID=Europe/London:20250328T230000
DTSTAMP:20260420T000852
CREATED:20251014T161715Z
LAST-MODIFIED:20251014T161715Z
UID:10000501-1743188400-1743202800@erugc.co.uk
SUMMARY:East Riding Union of Golf Clubs Annual Dinner
DESCRIPTION:The 76th Annual Dinner\, hosted by the President Dave Greenwood will be held at The Mercure Hotel\, Willerby on Friday 27th March 2025. Arrival is 7pm and the meal will be served at 7:45pm. \nOpen to all members of our East Riding affiliated clubs and guests. \nThe event includes a three course dinner and entertainment from guest speaker\, Mr Phil Parkin. \nThe dress code is either Black Tie\, Club Blazer or Jacket & Tie. \nTickets cost £42 per head.  The cash draw/raffle on the night will be for the Yorkshire Air Ambulance and the East Riding Junior Team. \nBook online \nor contact John Britton at johnbritton102@gmail.com
URL:https://erugc.co.uk/event/east-riding-union-of-golf-clubs-annual-dinner/
LOCATION:Mercure Hull Grange Park Hotel\, Grange Park Lane\, Willerby\, East Riding of Yorkshire\, HU10 6EB\, United Kingdom
CATEGORIES:Social
GEO:53.7651699;-0.4537532
X-APPLE-STRUCTURED-LOCATION;VALUE=URI;X-ADDRESS=Mercure Hull Grange Park Hotel Grange Park Lane Willerby East Riding of Yorkshire HU10 6EB United Kingdom;X-APPLE-RADIUS=500;X-TITLE=Grange Park Lane:geo:-0.4537532,53.7651699
END:VEVENT
BEGIN:VEVENT
DTSTART;TZID=Europe/London:20250328T190000
DTEND;TZID=Europe/London:20250328T230000
DTSTAMP:20260420T000852
CREATED:20250202T232855Z
LAST-MODIFIED:20250217T135647Z
UID:10000474-1743188400-1743202800@erugc.co.uk
SUMMARY:Annual Dinner
DESCRIPTION:The 75th Annual Dinner\, hosted by the President Jonty Hall\, will be held at The Mercure Hotel\, Willerby on Friday 28th March 2025. Arrival is 7pm and the meal will be served at 7:45pm. \nThe event includes a three course dinner and entertainment from guest speaker\, John Stiles. \nThe dress code is Black Tie with with an option of Club Blazer or Dark Lounge Suit. \nTickets are £6 cheaper than in 2024\, and cost £39 per head. \nBook online or contact John Britton at johnbritton102@gmail.com
URL:https://erugc.co.uk/event/annual-dinner/
LOCATION:Mercure Hull Grange Park Hotel\, Grange Park Lane\, Willerby\, East Riding of Yorkshire\, HU10 6EB\, United Kingdom
CATEGORIES:Social
GEO:53.7651699;-0.4537532
X-APPLE-STRUCTURED-LOCATION;VALUE=URI;X-ADDRESS=Mercure Hull Grange Park Hotel Grange Park Lane Willerby East Riding of Yorkshire HU10 6EB United Kingdom;X-APPLE-RADIUS=500;X-TITLE=Grange Park Lane:geo:-0.4537532,53.7651699
END:VEVENT
END:VCALENDAR