BEGIN:VCALENDAR
VERSION:2.0
PRODID:-//The East Riding Union of Golf Clubs - ECPv6.15.13.1//NONSGML v1.0//EN
CALSCALE:GREGORIAN
METHOD:PUBLISH
X-WR-CALNAME:The East Riding Union of Golf Clubs
X-ORIGINAL-URL:https://erugc.co.uk
X-WR-CALDESC:Events for The East Riding Union of Golf Clubs
REFRESH-INTERVAL;VALUE=DURATION:PT1H
X-Robots-Tag:noindex
X-PUBLISHED-TTL:PT1H
BEGIN:VTIMEZONE
TZID:Europe/London
BEGIN:DAYLIGHT
TZOFFSETFROM:+0000
TZOFFSETTO:+0100
TZNAME:BST
DTSTART:20240331T010000
END:DAYLIGHT
BEGIN:STANDARD
TZOFFSETFROM:+0100
TZOFFSETTO:+0000
TZNAME:GMT
DTSTART:20241027T010000
END:STANDARD
BEGIN:DAYLIGHT
TZOFFSETFROM:+0000
TZOFFSETTO:+0100
TZNAME:BST
DTSTART:20250330T010000
END:DAYLIGHT
BEGIN:STANDARD
TZOFFSETFROM:+0100
TZOFFSETTO:+0000
TZNAME:GMT
DTSTART:20251026T010000
END:STANDARD
BEGIN:DAYLIGHT
TZOFFSETFROM:+0000
TZOFFSETTO:+0100
TZNAME:BST
DTSTART:20260329T010000
END:DAYLIGHT
BEGIN:STANDARD
TZOFFSETFROM:+0100
TZOFFSETTO:+0000
TZNAME:GMT
DTSTART:20261025T010000
END:STANDARD
END:VTIMEZONE
BEGIN:VEVENT
DTSTART;VALUE=DATE:20250807
DTEND;VALUE=DATE:20250808
DTSTAMP:20260420T050837
CREATED:20250202T232959Z
LAST-MODIFIED:20250217T154249Z
UID:10000491-1754524800-1754611199@erugc.co.uk
SUMMARY:Juniors Development Championship
DESCRIPTION:Golf Genius Event Code: fynlta\nGolf Genius Event Portal: https://www.golfgenius.com/ggid/fynlta
URL:https://erugc.co.uk/event/juniors-development-championship/
LOCATION:Hull Golf Club\, Packman Lane\, Kirkella\, Hull\, East Riding of Yorkshire\, HU10 7TJ\, United Kingdom
CATEGORIES:Championships,Junior Championships
GEO:53.7548785;-0.4571946
X-APPLE-STRUCTURED-LOCATION;VALUE=URI;X-ADDRESS=Hull Golf Club Packman Lane Kirkella Hull East Riding of Yorkshire HU10 7TJ United Kingdom;X-APPLE-RADIUS=500;X-TITLE=Packman Lane:geo:-0.4571946,53.7548785
END:VEVENT
BEGIN:VEVENT
DTSTART;VALUE=DATE:20250807
DTEND;VALUE=DATE:20250808
DTSTAMP:20260420T050837
CREATED:20250106T221027Z
LAST-MODIFIED:20250217T154152Z
UID:10000414-1754524800-1754611199@erugc.co.uk
SUMMARY:Juniors Championship
DESCRIPTION:Golf Genius Event Code: gxmqln\nGolf Genius Event Portal: https://www.golfgenius.com/ggid/gxmqln
URL:https://erugc.co.uk/event/juniors-championship/
LOCATION:Hull Golf Club\, Packman Lane\, Kirkella\, Hull\, East Riding of Yorkshire\, HU10 7TJ\, United Kingdom
CATEGORIES:Championships,Junior Championships
GEO:53.7548785;-0.4571946
X-APPLE-STRUCTURED-LOCATION;VALUE=URI;X-ADDRESS=Hull Golf Club Packman Lane Kirkella Hull East Riding of Yorkshire HU10 7TJ United Kingdom;X-APPLE-RADIUS=500;X-TITLE=Packman Lane:geo:-0.4571946,53.7548785
END:VEVENT
BEGIN:VEVENT
DTSTART;VALUE=DATE:20250803
DTEND;VALUE=DATE:20250804
DTSTAMP:20260420T050837
CREATED:20250106T221157Z
LAST-MODIFIED:20250217T154019Z
UID:10000430-1754179200-1754265599@erugc.co.uk
SUMMARY:East Riding Men's Team Match 5 V Sheffield
DESCRIPTION:
URL:https://erugc.co.uk/event/union-match-away-2/
LOCATION:Wath Golf Club\, Abdy Road\, Rotherham\, South Yorkshire\, S62 7SJ\, United Kingdom
CATEGORIES:Men's Team
GEO:53.4839871;-1.3534676
X-APPLE-STRUCTURED-LOCATION;VALUE=URI;X-ADDRESS=Wath Golf Club Abdy Road Rotherham South Yorkshire S62 7SJ United Kingdom;X-APPLE-RADIUS=500;X-TITLE=Abdy Road:geo:-1.3534676,53.4839871
END:VEVENT
BEGIN:VEVENT
DTSTART;TZID=Europe/London:20250801T080000
DTEND;TZID=Europe/London:20250801T170000
DTSTAMP:20260420T050837
CREATED:20250402T174359Z
LAST-MODIFIED:20250402T180017Z
UID:10000500-1754035200-1754067600@erugc.co.uk
SUMMARY:East Riding Junior Under 18's Team Match 3 V Bradford
DESCRIPTION:
URL:https://erugc.co.uk/event/eru-u18s-junior-team-v-bradford/
LOCATION:Northcliffe\, High Bank Lane\, Shipley\, West Yorkshire\, BD13 4LJ\, United Kingdom
CATEGORIES:Junior Team
GEO:53.8268364;-1.8030607
X-APPLE-STRUCTURED-LOCATION;VALUE=URI;X-ADDRESS=Northcliffe High Bank Lane Shipley West Yorkshire BD13 4LJ United Kingdom;X-APPLE-RADIUS=500;X-TITLE=High Bank Lane:geo:-1.8030607,53.8268364
END:VEVENT
BEGIN:VEVENT
DTSTART;VALUE=DATE:20250731
DTEND;VALUE=DATE:20250801
DTSTAMP:20260420T050837
CREATED:20250202T232944Z
LAST-MODIFIED:20250217T153634Z
UID:10000490-1753920000-1754006399@erugc.co.uk
SUMMARY:Members Meeting 6 - Springhead Park Golf Club
DESCRIPTION:Golf Genius Event Code: zz2vnw\nGolf Genius Event Portal: https://www.golfgenius.com/ggid/zz2vnw
URL:https://erugc.co.uk/event/members-meeting-6/
LOCATION:Springhead Park Golf Club\, Willerby Road\, Kingston upon Hull\, East Yorkshire\, HU5 5JE\, United Kingdom
CATEGORIES:Members Meeting
GEO:53.7530429;-0.4191448
X-APPLE-STRUCTURED-LOCATION;VALUE=URI;X-ADDRESS=Springhead Park Golf Club Willerby Road Kingston upon Hull East Yorkshire HU5 5JE United Kingdom;X-APPLE-RADIUS=500;X-TITLE=Willerby Road:geo:-0.4191448,53.7530429
END:VEVENT
BEGIN:VEVENT
DTSTART;VALUE=DATE:20250727
DTEND;VALUE=DATE:20250728
DTSTAMP:20260420T050837
CREATED:20250106T221031Z
LAST-MODIFIED:20250217T153402Z
UID:10000415-1753574400-1753660799@erugc.co.uk
SUMMARY:East Riding Open Championship
DESCRIPTION:Golf Genius Event Code: hcxx49\nGolf Genius Event Portal: https://www.golfgenius.com/ggid/hcxx49
URL:https://erugc.co.uk/event/open-championship/
LOCATION:Scarborough North Cliff Golf Club\, North Cliff Avenue\, Scarborough\, North Yorkshire\, YO12 6PP\, United Kingdom
CATEGORIES:Championships
GEO:54.2991624;-0.4122062
X-APPLE-STRUCTURED-LOCATION;VALUE=URI;X-ADDRESS=Scarborough North Cliff Golf Club North Cliff Avenue Scarborough North Yorkshire YO12 6PP United Kingdom;X-APPLE-RADIUS=500;X-TITLE=North Cliff Avenue:geo:-0.4122062,54.2991624
END:VEVENT
BEGIN:VEVENT
DTSTART;VALUE=DATE:20250713
DTEND;VALUE=DATE:20250714
DTSTAMP:20260420T050837
CREATED:20250202T232944Z
LAST-MODIFIED:20250217T161144Z
UID:10000489-1752364800-1752451199@erugc.co.uk
SUMMARY:YIDU Junior Club Team Championship at Catterick Golf Club
DESCRIPTION:
URL:https://erugc.co.uk/event/yidu-junior-club-team-championship/
LOCATION:Catterick Golf Club\, Leyburn Road\, Catterick garrison\, North Yorkshire\, DL9 3QE\, United Kingdom
CATEGORIES:Junior Championships
GEO:54.3732841;-1.7358837
X-APPLE-STRUCTURED-LOCATION;VALUE=URI;X-ADDRESS=Catterick Golf Club Leyburn Road Catterick garrison North Yorkshire DL9 3QE United Kingdom;X-APPLE-RADIUS=500;X-TITLE=Leyburn Road:geo:-1.7358837,54.3732841
END:VEVENT
BEGIN:VEVENT
DTSTART;VALUE=DATE:20250713
DTEND;VALUE=DATE:20250714
DTSTAMP:20260420T050837
CREATED:20250106T221119Z
LAST-MODIFIED:20250217T153049Z
UID:10000427-1752364800-1752451199@erugc.co.uk
SUMMARY:East Riding Men's Team Match 4 v Bradford
DESCRIPTION:
URL:https://erugc.co.uk/event/union-match-3-v-bradford/
LOCATION:Hull Golf Club\, Packman Lane\, Kirkella\, Hull\, East Riding of Yorkshire\, HU10 7TJ\, United Kingdom
CATEGORIES:Men's Team
GEO:53.7548785;-0.4571946
X-APPLE-STRUCTURED-LOCATION;VALUE=URI;X-ADDRESS=Hull Golf Club Packman Lane Kirkella Hull East Riding of Yorkshire HU10 7TJ United Kingdom;X-APPLE-RADIUS=500;X-TITLE=Packman Lane:geo:-0.4571946,53.7548785
END:VEVENT
BEGIN:VEVENT
DTSTART;VALUE=DATE:20250710
DTEND;VALUE=DATE:20250711
DTSTAMP:20260420T050837
CREATED:20250202T232929Z
LAST-MODIFIED:20250217T152840Z
UID:10000488-1752105600-1752191999@erugc.co.uk
SUMMARY:Members Meeting 5 - Ganstead Park Golf Club
DESCRIPTION:Golf Genius Event Code: mn4sdk\nGolf Genius Event Portal: https://www.golfgenius.com/ggid/mn4sdk
URL:https://erugc.co.uk/event/members-meeting-5/
LOCATION:Ganstead Park Golf Club\, Longdales Lane\, Coniston\, East Yorkshire\, HU11 4LB\, United Kingdom
CATEGORIES:Members Meeting
GEO:53.7925757;-0.2468679
X-APPLE-STRUCTURED-LOCATION;VALUE=URI;X-ADDRESS=Ganstead Park Golf Club Longdales Lane Coniston East Yorkshire HU11 4LB United Kingdom;X-APPLE-RADIUS=500;X-TITLE=Longdales Lane:geo:-0.2468679,53.7925757
END:VEVENT
BEGIN:VEVENT
DTSTART;VALUE=DATE:20250626
DTEND;VALUE=DATE:20250627
DTSTAMP:20260420T050837
CREATED:20250106T230413Z
LAST-MODIFIED:20250217T152530Z
UID:10000472-1750896000-1750982399@erugc.co.uk
SUMMARY:Members Meeting 4 - Burstwick Country Golf
DESCRIPTION:Golf Genius Event Code: adxel7\nGolf Genius Event Portal: https://www.golfgenius.com/ggid/adxel7
URL:https://erugc.co.uk/event/members-meeting-burstwick-golf-club/
LOCATION:Burstwick Country Golf\, Ellifoot Lane\, Hull\, East Y\, HU12 9EF\, United Kingdom
CATEGORIES:Members Meeting
GEO:53.7397143;-0.1355035
X-APPLE-STRUCTURED-LOCATION;VALUE=URI;X-ADDRESS=Burstwick Country Golf Ellifoot Lane Hull East Y HU12 9EF United Kingdom;X-APPLE-RADIUS=500;X-TITLE=Ellifoot Lane:geo:-0.1355035,53.7397143
END:VEVENT
BEGIN:VEVENT
DTSTART;VALUE=DATE:20250622
DTEND;VALUE=DATE:20250623
DTSTAMP:20260420T050837
CREATED:20250106T221119Z
LAST-MODIFIED:20250217T152239Z
UID:10000426-1750550400-1750636799@erugc.co.uk
SUMMARY:East Riding Men's Team Match 3 v Halifax & Huddersfield
DESCRIPTION:
URL:https://erugc.co.uk/event/union-match-2-v-halifax-hudd/
LOCATION:Driffield Golf Club\, Beverley Road\, Driffield\, East Yorkshire\, YO25\, United Kingdom
CATEGORIES:Men's Team
GEO:53.9982168;-0.4417604
X-APPLE-STRUCTURED-LOCATION;VALUE=URI;X-ADDRESS=Driffield Golf Club Beverley Road Driffield East Yorkshire YO25 United Kingdom;X-APPLE-RADIUS=500;X-TITLE=Beverley Road:geo:-0.4417604,53.9982168
END:VEVENT
BEGIN:VEVENT
DTSTART;VALUE=DATE:20250615
DTEND;VALUE=DATE:20250616
DTSTAMP:20260420T050837
CREATED:20250106T230413Z
LAST-MODIFIED:20250217T151844Z
UID:10000471-1749945600-1750031999@erugc.co.uk
SUMMARY:East Riding Amateur Championship - Kilnwick Percy Golf Club
DESCRIPTION:Golf Genius Event Code: nupre9\nGolf Genius Event Portal: https://www.golfgenius.com/ggid/nupre9
URL:https://erugc.co.uk/event/amateur-championship-kilnwick-percy-golf-club/
LOCATION:Kilnwick Percy Resort & Golf Club\, Kilnwick Percy\, East Yorkshire\, YO42 1UF\, United Kingdom
CATEGORIES:Championships
GEO:53.9412559;-0.7446201
END:VEVENT
BEGIN:VEVENT
DTSTART;VALUE=DATE:20250612
DTEND;VALUE=DATE:20250613
DTSTAMP:20260420T050837
CREATED:20250106T230413Z
LAST-MODIFIED:20250217T151315Z
UID:10000470-1749686400-1749772799@erugc.co.uk
SUMMARY:Members Meeting 3 - Filey Golf Club
DESCRIPTION:Golf Genius Event Code: zld2sn\nGolf Genius Event Portal: https://www.golfgenius.com/ggid/zld2sn
URL:https://erugc.co.uk/event/members-meeting-filey-golf-club/
LOCATION:Filey Golf Club\, West Avenue\, Filey\, North Yorkshire\, YO14 9BQ\, United Kingdom
CATEGORIES:Members Meeting
GEO:54.202889;-0.2899567
X-APPLE-STRUCTURED-LOCATION;VALUE=URI;X-ADDRESS=Filey Golf Club West Avenue Filey North Yorkshire YO14 9BQ United Kingdom;X-APPLE-RADIUS=500;X-TITLE=West Avenue:geo:-0.2899567,54.202889
END:VEVENT
BEGIN:VEVENT
DTSTART;VALUE=DATE:20250608
DTEND;VALUE=DATE:20250609
DTSTAMP:20260420T050837
CREATED:20250106T221120Z
LAST-MODIFIED:20250217T151529Z
UID:10000429-1749340800-1749427199@erugc.co.uk
SUMMARY:East Riding Men's Team Match 2 V Harrogate
DESCRIPTION:
URL:https://erugc.co.uk/event/union-match-away-1/
LOCATION:Ripon City Golf Club\, Ripon\, North Yorkshire\, HG4 3HH\, United Kingdom
CATEGORIES:Men's Team
GEO:54.1527576;-1.5312917
END:VEVENT
BEGIN:VEVENT
DTSTART;VALUE=DATE:20250601
DTEND;VALUE=DATE:20250602
DTSTAMP:20260420T050837
CREATED:20250106T230412Z
LAST-MODIFIED:20250217T150739Z
UID:10000469-1748736000-1748822399@erugc.co.uk
SUMMARY:Millennium Trophy - Drax Golf Club
DESCRIPTION:Golf Genius Event Code: el277n\nGolf Genius Event Portal: https://www.golfgenius.com/ggid/el277n
URL:https://erugc.co.uk/event/millennium-trophy-drax-golf-club/
LOCATION:Drax Golf Club\, Main Road\, Drax\, North Yorkshire\, YO8\, United Kingdom
CATEGORIES:Championships
GEO:53.7291569;-0.9822746
X-APPLE-STRUCTURED-LOCATION;VALUE=URI;X-ADDRESS=Drax Golf Club Main Road Drax North Yorkshire YO8 United Kingdom;X-APPLE-RADIUS=500;X-TITLE=Main Road:geo:-0.9822746,53.7291569
END:VEVENT
BEGIN:VEVENT
DTSTART;VALUE=DATE:20250530
DTEND;VALUE=DATE:20250531
DTSTAMP:20260420T050837
CREATED:20250106T230411Z
LAST-MODIFIED:20250217T150511Z
UID:10000468-1748563200-1748649599@erugc.co.uk
SUMMARY:Junior Club Team Championship - Beverley & East Riding Golf Club
DESCRIPTION:Golf Genius Event Code: jfgcn7\nGolf Genius Event Portal: https://www.golfgenius.com/ggid/jfgcn7
URL:https://erugc.co.uk/event/junior-club-team-championship-beverley-er-golf-club/
LOCATION:Beverley & East Riding Golf Club\, Westwood\, Beverley\, East Yorkshire\, HU17 8RG\, United Kingdom
CATEGORIES:Junior Championships
GEO:53.8337861;-0.4408356
X-APPLE-STRUCTURED-LOCATION;VALUE=URI;X-ADDRESS=Beverley & East Riding Golf Club Westwood Beverley East Yorkshire HU17 8RG United Kingdom;X-APPLE-RADIUS=500;X-TITLE=Westwood:geo:-0.4408356,53.8337861
END:VEVENT
BEGIN:VEVENT
DTSTART;VALUE=DATE:20250529
DTEND;VALUE=DATE:20250530
DTSTAMP:20260420T050837
CREATED:20250106T230408Z
LAST-MODIFIED:20250217T150340Z
UID:10000467-1748476800-1748563199@erugc.co.uk
SUMMARY:Members Meeting 2 - Driffield Golf Club
DESCRIPTION:Golf Genius Event Code: hp64y5\nGolf Genius Event Portal: https://www.golfgenius.com/ggid/hp64y5
URL:https://erugc.co.uk/event/members-meeting-driffield-golf-club/
LOCATION:Driffield Golf Club\, Beverley Road\, Driffield\, East Yorkshire\, YO25\, United Kingdom
CATEGORIES:Members Meeting
GEO:53.9982168;-0.4417604
X-APPLE-STRUCTURED-LOCATION;VALUE=URI;X-ADDRESS=Driffield Golf Club Beverley Road Driffield East Yorkshire YO25 United Kingdom;X-APPLE-RADIUS=500;X-TITLE=Beverley Road:geo:-0.4417604,53.9982168
END:VEVENT
BEGIN:VEVENT
DTSTART;VALUE=DATE:20250526
DTEND;VALUE=DATE:20250527
DTSTAMP:20260420T050837
CREATED:20250106T221230Z
LAST-MODIFIED:20250219T163915Z
UID:10000444-1748217600-1748303999@erugc.co.uk
SUMMARY:East Riding Junior Under 18's Team - Match 2 V Harrogate
DESCRIPTION:
URL:https://erugc.co.uk/event/junior-union-away-match-3/
LOCATION:Filey Golf Club\, West Avenue\, Filey\, North Yorkshire\, YO14 9BQ\, United Kingdom
CATEGORIES:Junior Team
GEO:54.202889;-0.2899567
X-APPLE-STRUCTURED-LOCATION;VALUE=URI;X-ADDRESS=Filey Golf Club West Avenue Filey North Yorkshire YO14 9BQ United Kingdom;X-APPLE-RADIUS=500;X-TITLE=West Avenue:geo:-0.2899567,54.202889
END:VEVENT
BEGIN:VEVENT
DTSTART;VALUE=DATE:20250518
DTEND;VALUE=DATE:20250519
DTSTAMP:20260420T050837
CREATED:20250106T221118Z
LAST-MODIFIED:20250217T142213Z
UID:10000425-1747526400-1747612799@erugc.co.uk
SUMMARY:East Riding Men's Team Match 1 v Teesside
DESCRIPTION:
URL:https://erugc.co.uk/event/union-match-1-v-teeside/
LOCATION:Scarborough South Cliff Golf Club\, Deepdale Avenue\, Scarborough\, North Yorkshire\, YO11 2UE\, United Kingdom
CATEGORIES:Men's Team
GEO:54.2620249;-0.4017862
X-APPLE-STRUCTURED-LOCATION;VALUE=URI;X-ADDRESS=Scarborough South Cliff Golf Club Deepdale Avenue Scarborough North Yorkshire YO11 2UE United Kingdom;X-APPLE-RADIUS=500;X-TITLE=Deepdale Avenue:geo:-0.4017862,54.2620249
END:VEVENT
BEGIN:VEVENT
DTSTART;VALUE=DATE:20250516
DTEND;VALUE=DATE:20250517
DTSTAMP:20260420T050837
CREATED:20250106T230407Z
LAST-MODIFIED:20250217T160933Z
UID:10000466-1747353600-1747439999@erugc.co.uk
SUMMARY:Senior Championship - Beverley & East Riding Golf Club
DESCRIPTION:Golf Genius Event Code: we62k2\nGolf Genius Event Portal: https://www.golfgenius.com/ggid/we62k2
URL:https://erugc.co.uk/event/senior-championship-beverley-er-golf-club/
LOCATION:Beverley & East Riding Golf Club\, Westwood\, Beverley\, East Yorkshire\, HU17 8RG\, United Kingdom
CATEGORIES:Championships,Seniors
GEO:53.8337861;-0.4408356
X-APPLE-STRUCTURED-LOCATION;VALUE=URI;X-ADDRESS=Beverley & East Riding Golf Club Westwood Beverley East Yorkshire HU17 8RG United Kingdom;X-APPLE-RADIUS=500;X-TITLE=Westwood:geo:-0.4408356,53.8337861
END:VEVENT
BEGIN:VEVENT
DTSTART;VALUE=DATE:20250511
DTEND;VALUE=DATE:20250512
DTSTAMP:20260420T050837
CREATED:20250106T230407Z
LAST-MODIFIED:20250217T141455Z
UID:10000465-1746921600-1747007999@erugc.co.uk
SUMMARY:East Riding Team Championship - Brough Golf Club
DESCRIPTION:Golf Genius Event Code: ayy2a4\nGolf Genius Event Portal: https://www.golfgenius.com/ggid/ayy2a4
URL:https://erugc.co.uk/event/east-riding-team-championship-brough-golf-club/
LOCATION:Brough Golf Club\, Cave Road 16\, Brough\, East Yorkshire\, HU15 1HB\, United Kingdom
CATEGORIES:Championships
GEO:53.7310229;-0.5801546
X-APPLE-STRUCTURED-LOCATION;VALUE=URI;X-ADDRESS=Brough Golf Club Cave Road 16 Brough East Yorkshire HU15 1HB United Kingdom;X-APPLE-RADIUS=500;X-TITLE=Cave Road 16:geo:-0.5801546,53.7310229
END:VEVENT
BEGIN:VEVENT
DTSTART;VALUE=DATE:20250508
DTEND;VALUE=DATE:20250509
DTSTAMP:20260420T050837
CREATED:20250106T230406Z
LAST-MODIFIED:20250217T142421Z
UID:10000464-1746662400-1746748799@erugc.co.uk
SUMMARY:Members Meeting 1 - Hull Golf Club
DESCRIPTION:Golf Genius Event Code: zbs7ut\nGolf Genius Event Portal: https://www.golfgenius.com/ggid/zbs7ut
URL:https://erugc.co.uk/event/members-meeting-hull-golf-club/
LOCATION:Hull Golf Club\, Packman Lane\, Kirkella\, Hull\, East Riding of Yorkshire\, HU10 7TJ\, United Kingdom
CATEGORIES:Members Meeting
GEO:53.7548785;-0.4571946
X-APPLE-STRUCTURED-LOCATION;VALUE=URI;X-ADDRESS=Hull Golf Club Packman Lane Kirkella Hull East Riding of Yorkshire HU10 7TJ United Kingdom;X-APPLE-RADIUS=500;X-TITLE=Packman Lane:geo:-0.4571946,53.7548785
END:VEVENT
BEGIN:VEVENT
DTSTART;VALUE=DATE:20250504
DTEND;VALUE=DATE:20250505
DTSTAMP:20260420T050837
CREATED:20250106T221229Z
LAST-MODIFIED:20250402T175942Z
UID:10000443-1746316800-1746403199@erugc.co.uk
SUMMARY:East Riding Junior Under 18's Team - Match 1 V York
DESCRIPTION:
URL:https://erugc.co.uk/event/junior-union-away-match-2/
LOCATION:Scarborough North Cliff Golf Club\, North Cliff Avenue\, Scarborough\, North Yorkshire\, YO12 6PP\, United Kingdom
CATEGORIES:Junior Team
GEO:54.2991624;-0.4122062
X-APPLE-STRUCTURED-LOCATION;VALUE=URI;X-ADDRESS=Scarborough North Cliff Golf Club North Cliff Avenue Scarborough North Yorkshire YO12 6PP United Kingdom;X-APPLE-RADIUS=500;X-TITLE=North Cliff Avenue:geo:-0.4122062,54.2991624
END:VEVENT
BEGIN:VEVENT
DTSTART;TZID=Europe/London:20250403T000000
DTEND;TZID=Europe/London:20250403T000000
DTSTAMP:20260420T050837
CREATED:20250202T232856Z
LAST-MODIFIED:20250217T140900Z
UID:10000477-1743638400-1743638400@erugc.co.uk
SUMMARY:Annual General Meeting
DESCRIPTION:
URL:https://erugc.co.uk/event/annual-general-meeting/
LOCATION:Beverley & East Riding Golf Club\, Westwood\, Beverley\, East Yorkshire\, HU17 8RG\, United Kingdom
CATEGORIES:Meeting
GEO:53.8337861;-0.4408356
X-APPLE-STRUCTURED-LOCATION;VALUE=URI;X-ADDRESS=Beverley & East Riding Golf Club Westwood Beverley East Yorkshire HU17 8RG United Kingdom;X-APPLE-RADIUS=500;X-TITLE=Westwood:geo:-0.4408356,53.8337861
END:VEVENT
BEGIN:VEVENT
DTSTART;VALUE=DATE:20250331
DTEND;VALUE=DATE:20250401
DTSTAMP:20260420T050837
CREATED:20250107T001822Z
LAST-MODIFIED:20250107T001912Z
UID:10000473-1743379200-1743465599@erugc.co.uk
SUMMARY:Mens Matchplay - Closing Date for Entries
DESCRIPTION:Golf Genius Event Code: mdgkkb\nGolf Genius Event Portal: https://www.golfgenius.com/ggid/mdgkkb
URL:https://erugc.co.uk/event/mens-matchplay-championship-closing-date-for-entries/
LOCATION:Ganton Golf Club\, Ganton\, Nr Scarborough\, North Yorkshire\, YO12 4PA\, United Kingdom
CATEGORIES:Championships
GEO:54.1906144;-0.4950135
X-APPLE-STRUCTURED-LOCATION;VALUE=URI;X-ADDRESS=Ganton Golf Club Ganton Nr Scarborough North Yorkshire YO12 4PA United Kingdom;X-APPLE-RADIUS=500;X-TITLE=Ganton:geo:-0.4950135,54.1906144
END:VEVENT
BEGIN:VEVENT
DTSTART;VALUE=DATE:20250330
DTEND;VALUE=DATE:20250331
DTSTAMP:20260420T050837
CREATED:20250202T232855Z
LAST-MODIFIED:20250217T162151Z
UID:10000475-1743292800-1743379199@erugc.co.uk
SUMMARY:Exec/Past Presidents/Players
DESCRIPTION:
URL:https://erugc.co.uk/event/exec-past-presidents-players/
LOCATION:Hornsea Golf Club\, Rolston Road\, Hornsea\, East Yorkshire\, HU18 1XG\, United Kingdom
CATEGORIES:Social
GEO:53.8970048;-0.1650321
X-APPLE-STRUCTURED-LOCATION;VALUE=URI;X-ADDRESS=Hornsea Golf Club Rolston Road Hornsea East Yorkshire HU18 1XG United Kingdom;X-APPLE-RADIUS=500;X-TITLE=Rolston Road:geo:-0.1650321,53.8970048
END:VEVENT
BEGIN:VEVENT
DTSTART;TZID=Europe/London:20250328T190000
DTEND;TZID=Europe/London:20250328T230000
DTSTAMP:20260420T050837
CREATED:20251014T161715Z
LAST-MODIFIED:20251014T161715Z
UID:10000501-1743188400-1743202800@erugc.co.uk
SUMMARY:East Riding Union of Golf Clubs Annual Dinner
DESCRIPTION:The 76th Annual Dinner\, hosted by the President Dave Greenwood will be held at The Mercure Hotel\, Willerby on Friday 27th March 2025. Arrival is 7pm and the meal will be served at 7:45pm. \nOpen to all members of our East Riding affiliated clubs and guests. \nThe event includes a three course dinner and entertainment from guest speaker\, Mr Phil Parkin. \nThe dress code is either Black Tie\, Club Blazer or Jacket & Tie. \nTickets cost £42 per head.  The cash draw/raffle on the night will be for the Yorkshire Air Ambulance and the East Riding Junior Team. \nBook online \nor contact John Britton at johnbritton102@gmail.com
URL:https://erugc.co.uk/event/east-riding-union-of-golf-clubs-annual-dinner/
LOCATION:Mercure Hull Grange Park Hotel\, Grange Park Lane\, Willerby\, East Riding of Yorkshire\, HU10 6EB\, United Kingdom
CATEGORIES:Social
GEO:53.7651699;-0.4537532
X-APPLE-STRUCTURED-LOCATION;VALUE=URI;X-ADDRESS=Mercure Hull Grange Park Hotel Grange Park Lane Willerby East Riding of Yorkshire HU10 6EB United Kingdom;X-APPLE-RADIUS=500;X-TITLE=Grange Park Lane:geo:-0.4537532,53.7651699
END:VEVENT
BEGIN:VEVENT
DTSTART;TZID=Europe/London:20250328T190000
DTEND;TZID=Europe/London:20250328T230000
DTSTAMP:20260420T050837
CREATED:20250202T232855Z
LAST-MODIFIED:20250217T135647Z
UID:10000474-1743188400-1743202800@erugc.co.uk
SUMMARY:Annual Dinner
DESCRIPTION:The 75th Annual Dinner\, hosted by the President Jonty Hall\, will be held at The Mercure Hotel\, Willerby on Friday 28th March 2025. Arrival is 7pm and the meal will be served at 7:45pm. \nThe event includes a three course dinner and entertainment from guest speaker\, John Stiles. \nThe dress code is Black Tie with with an option of Club Blazer or Dark Lounge Suit. \nTickets are £6 cheaper than in 2024\, and cost £39 per head. \nBook online or contact John Britton at johnbritton102@gmail.com
URL:https://erugc.co.uk/event/annual-dinner/
LOCATION:Mercure Hull Grange Park Hotel\, Grange Park Lane\, Willerby\, East Riding of Yorkshire\, HU10 6EB\, United Kingdom
CATEGORIES:Social
GEO:53.7651699;-0.4537532
X-APPLE-STRUCTURED-LOCATION;VALUE=URI;X-ADDRESS=Mercure Hull Grange Park Hotel Grange Park Lane Willerby East Riding of Yorkshire HU10 6EB United Kingdom;X-APPLE-RADIUS=500;X-TITLE=Grange Park Lane:geo:-0.4537532,53.7651699
END:VEVENT
END:VCALENDAR